BEGIN:VCALENDAR
VERSION:2.0
PRODID:-//Manantial de Bendicion - ECPv6.15.20//NONSGML v1.0//EN
CALSCALE:GREGORIAN
METHOD:PUBLISH
X-ORIGINAL-URL:https://manantialdebendicion.com
X-WR-CALDESC:Events for Manantial de Bendicion
REFRESH-INTERVAL;VALUE=DURATION:PT1H
X-Robots-Tag:noindex
X-PUBLISHED-TTL:PT1H
BEGIN:VTIMEZONE
TZID:America/New_York
BEGIN:DAYLIGHT
TZOFFSETFROM:-0500
TZOFFSETTO:-0400
TZNAME:EDT
DTSTART:20190310T070000
END:DAYLIGHT
BEGIN:STANDARD
TZOFFSETFROM:-0400
TZOFFSETTO:-0500
TZNAME:EST
DTSTART:20191103T060000
END:STANDARD
BEGIN:DAYLIGHT
TZOFFSETFROM:-0500
TZOFFSETTO:-0400
TZNAME:EDT
DTSTART:20200308T070000
END:DAYLIGHT
BEGIN:STANDARD
TZOFFSETFROM:-0400
TZOFFSETTO:-0500
TZNAME:EST
DTSTART:20201101T060000
END:STANDARD
BEGIN:DAYLIGHT
TZOFFSETFROM:-0500
TZOFFSETTO:-0400
TZNAME:EDT
DTSTART:20210314T070000
END:DAYLIGHT
BEGIN:STANDARD
TZOFFSETFROM:-0400
TZOFFSETTO:-0500
TZNAME:EST
DTSTART:20211107T060000
END:STANDARD
BEGIN:DAYLIGHT
TZOFFSETFROM:-0500
TZOFFSETTO:-0400
TZNAME:EDT
DTSTART:20220313T070000
END:DAYLIGHT
BEGIN:STANDARD
TZOFFSETFROM:-0400
TZOFFSETTO:-0500
TZNAME:EST
DTSTART:20221106T060000
END:STANDARD
BEGIN:DAYLIGHT
TZOFFSETFROM:-0500
TZOFFSETTO:-0400
TZNAME:EDT
DTSTART:20230312T070000
END:DAYLIGHT
BEGIN:STANDARD
TZOFFSETFROM:-0400
TZOFFSETTO:-0500
TZNAME:EST
DTSTART:20231105T060000
END:STANDARD
END:VTIMEZONE
BEGIN:VEVENT
DTSTART;TZID=America/New_York:20211001T000000
DTEND;TZID=America/New_York:20211003T235959
DTSTAMP:20260423T135129
CREATED:20250307T120006Z
LAST-MODIFIED:20250224T212204Z
UID:1811-1633046400-1633305599@manantialdebendicion.com
SUMMARY:UN ENCUENTRO SON EL REY
DESCRIPTION:  \n\n\n\nRETIRO ESPIRITUAL “UN ENCUENTRO CON EL REY\nMARZO VIERNES 7 A DOMINGO 9  \nPreparate para un TIEMPO de Bendiciones \nVen y Recibe un Toque del Maestro.\n  \nREGISTRATE \n \n \n  \n \n\n \n 
URL:https://manantialdebendicion.com/event/eventos-del-mes/
CATEGORIES:Our Events,Upcoming Events
ATTACH;FMTTYPE=image/jpeg:https://manantialdebendicion.com/wp-content/uploads/revslider/video-media/IMG_7922_26_layer-scaled.jpeg
END:VEVENT
BEGIN:VEVENT
DTSTART;TZID=America/New_York:20210810T000000
DTEND;TZID=America/New_York:20220722T000000
DTSTAMP:20260423T135129
CREATED:20210722T181151Z
LAST-MODIFIED:20210722T181434Z
UID:14485-1628553600-1658448000@manantialdebendicion.com
SUMMARY:Primer Dia de Clases en MCA
DESCRIPTION:Comienzan las Clases en Millennium Christian Academy
URL:https://manantialdebendicion.com/event/primer-dia-de-clases-en-mca/
CATEGORIES:Our Events,Upcoming Events
ATTACH;FMTTYPE=image/png:https://manantialdebendicion.com/wp-content/uploads/2021/07/logo.png
END:VEVENT
BEGIN:VEVENT
DTSTART;VALUE=DATE:20200831
DTEND;VALUE=DATE:20201201
DTSTAMP:20260423T135129
CREATED:20200731T153235Z
LAST-MODIFIED:20230722T170259Z
UID:6835-1598832000-1606780799@manantialdebendicion.com
SUMMARY:Información de Miembros IMB
DESCRIPTION:Dios le Bendiga…\nAcompañanos cada domingo para adorar juntos a nuestro Salvador y Rey Jesus. \nSerá una experiencia sobrenatural que cambiará tu vida para siempre.\nMuchas bendiciones…\nRev. Evaristo Caba\, PhD\nPresionar aquí
URL:https://manantialdebendicion.com/event/information-de-miembros-imb/
LOCATION:IMB- Haines City\, 704 McLeod Ave Haines City FL 33844\, Haines City\, FL\, 33844\, United States
CATEGORIES:Our Events
ATTACH;FMTTYPE=image/jpeg:https://manantialdebendicion.com/wp-content/uploads/2020/07/IMB-pic.jpg
ORGANIZER;CN="Iglesia Mannatial de Bendicion":MAILTO:imb.hainescity@gmail.com
END:VEVENT
BEGIN:VEVENT
DTSTART;TZID=America/New_York:20200107T193000
DTEND;TZID=America/New_York:20201229T210000
DTSTAMP:20260423T135129
CREATED:20200129T120005Z
LAST-MODIFIED:20230421T150100Z
UID:311-1578425400-1609275600@manantialdebendicion.com
SUMMARY:Discipulado Explosivo
DESCRIPTION:DISCIPULADO  EXPLOSIVO \nNuestra meta es hacer discípulos del Reino de Dios. Jesus nos envió a hacer discípulos.  Nos damos a la tarea de enriquecer a cada miembro de nuestra iglesia con el conocimiento de la Palabra de Dios.  Nuestra discipulado consiste de 3 módulos de estudio; Iglesia 101\, 201 y 301. Cada uno diseñado para fortalecer la fe cristiana bajo los principios bíblicos establecidos por nuestro Señor Jesucristo. Brindamos las clases para bautismos en agua. \nClases se brindad en español e inglés de acuerdo al cuórum.  \n\nIGL 101 Descubramos qué significa ser miembro de una iglesia\nIGL 201 Vivamos la madurez espiritual\nIGL 301 Exploremos el campo del ministerio personal\n\nTODOS LOS MARTES DE 7:30pm  \nSiadelis y Jashua Sanchez \nDirectores \n 
URL:https://manantialdebendicion.com/event/christian-leadership-seminar/
LOCATION:IMB- Haines City\, 704 McLeod Ave Haines City FL 33844\, Haines City\, FL\, 33844\, United States
CATEGORIES:Our Events
ATTACH;FMTTYPE=image/jpeg:https://manantialdebendicion.com/wp-content/uploads/2023/03/IMG_7486-scaled.jpeg
END:VEVENT
END:VCALENDAR